BEGIN:VCALENDAR
PRODID:RAVE.CA V17.0
X-WR-CALNAME:FREE PARTY FREE CANDY
X-ORIGINAL-URL:https://www.rave.ca/event/14283/
VERSION:2.0
CALSCALE:GREGORIAN
METHOD:PUBLISH
BEGIN:VEVENT
DTSTAMP:20061017T185037Z
LAST-MODIFIED:20061017T185037Z
CREATED:20061017T184939Z
SEQUENCE:14283
ORGANIZER:Unknown
DTSTART:20061029T200000Z
DTEND:20061030T000000Z
UID:event_14283@rave.ca
SUMMARY:FREE PARTY FREE CANDY
LOCATION:Unknown
URL:https://www.rave.ca/event/14283/
DESCRIPTION:29 OCTOBRE 2006\n19h00 - 23h00\n@BAR COOP L'AGITÉE\n251\, DORCHESTER\, QUÉBEC\n\nFISHHEAD\nOXYGENFAD\nMITHRA\nSFNES DESTROYER\nSTOEKIOMETRAKS\nPYMO
CLASS:PUBLIC
CATEGORIES:
STATUS:CONFIRMED
PARTSTAT:ACCEPTED
END:VEVENT
END:VCALENDAR
