BEGIN:VCALENDAR
PRODID:RAVE.CA V17.0
X-WR-CALNAME:Beltane
X-ORIGINAL-URL:https://www.rave.ca/event/14233/
VERSION:2.0
CALSCALE:GREGORIAN
METHOD:PUBLISH
BEGIN:VEVENT
DTSTAMP:20061225T134048Z
LAST-MODIFIED:20061225T134048Z
CREATED:20061008T234811Z
SEQUENCE:14233
ORGANIZER:Unknown
DTSTART:20070428T000000Z
DTEND:20070428T000000Z
UID:event_14233@rave.ca
SUMMARY:Beltane
LOCATION:in the forest
URL:https://www.rave.ca/event/14233/
DESCRIPTION:this is a pagan celebration. le 1er mai est le début de l'été dans le calendrier traditionnel des druides.
CLASS:PUBLIC
CATEGORIES:
STATUS:CONFIRMED
PARTSTAT:ACCEPTED
END:VEVENT
END:VCALENDAR
