BEGIN:VCALENDAR
PRODID:RAVE.CA V17.0
X-WR-CALNAME:Billy Talent
X-ORIGINAL-URL:https://www.rave.ca/event/14204/
VERSION:2.0
CALSCALE:GREGORIAN
METHOD:PUBLISH
BEGIN:VEVENT
DTSTAMP:20061004T092030Z
LAST-MODIFIED:20061004T092030Z
CREATED:20061004T091923Z
SEQUENCE:14204
ORGANIZER:Unknown
DTSTART:20070205T000000Z
DTEND:20070205T000000Z
UID:event_14204@rave.ca
SUMMARY:Billy Talent
LOCATION:Centre Bell
URL:https://www.rave.ca/event/14204/
DESCRIPTION:Billets en vente bientot
CLASS:PUBLIC
CATEGORIES:
STATUS:CONFIRMED
PARTSTAT:ACCEPTED
END:VEVENT
END:VCALENDAR
