BEGIN:VCALENDAR
PRODID:RAVE.CA V17.0
X-WR-CALNAME:Maus vs Nathan Burns All-night!
X-ORIGINAL-URL:https://www.rave.ca/event/14201/
VERSION:2.0
CALSCALE:GREGORIAN
METHOD:PUBLISH
BEGIN:VEVENT
DTSTAMP:20061120T143113Z
LAST-MODIFIED:20061120T143113Z
CREATED:20061004T050645Z
SEQUENCE:14201
ORGANIZER:Unknown
DTSTART:20061118T000000Z
DTEND:20061118T000000Z
UID:event_14201@rave.ca
SUMMARY:Maus vs Nathan Burns All-night!
LOCATION:Aria\, Afterhours
URL:https://www.rave.ca/event/14201/
DESCRIPTION:
CLASS:PUBLIC
CATEGORIES:
STATUS:CONFIRMED
PARTSTAT:ACCEPTED
END:VEVENT
END:VCALENDAR
