BEGIN:VCALENDAR
PRODID:RAVE.CA V17.0
X-WR-CALNAME:No Excuse, Sean Kosa, Mightykat
X-ORIGINAL-URL:https://www.rave.ca/event/14175/
VERSION:2.0
CALSCALE:GREGORIAN
METHOD:PUBLISH
BEGIN:VEVENT
DTSTAMP:20061006T205013Z
LAST-MODIFIED:20061006T205013Z
CREATED:20060930T192608Z
SEQUENCE:14175
ORGANIZER:Unknown
DTSTART:20061008T220000Z
DTEND:20061008T220000Z
UID:event_14175@rave.ca
SUMMARY:No Excuse\, Sean Kosa\, Mightykat
LOCATION:Balroom
URL:https://www.rave.ca/event/14175/
DESCRIPTION:
CLASS:PUBLIC
CATEGORIES:
STATUS:CONFIRMED
PARTSTAT:ACCEPTED
END:VEVENT
END:VCALENDAR
