BEGIN:VCALENDAR
PRODID:RAVE.CA V17.0
X-WR-CALNAME:NuJazz Fest - Afrodizz, Kobayashi, Subterfuse &amp; Pheek
X-ORIGINAL-URL:https://www.rave.ca/event/14120/
VERSION:2.0
CALSCALE:GREGORIAN
METHOD:PUBLISH
BEGIN:VEVENT
DTSTAMP:20060920T182349Z
LAST-MODIFIED:20060920T182349Z
CREATED:20060920T182215Z
SEQUENCE:14120
ORGANIZER:Unknown
DTSTART:20061013T210000Z
DTEND:20061013T210000Z
UID:event_14120@rave.ca
SUMMARY:NuJazz Fest - Afrodizz\, Kobayashi\, Subterfuse & Pheek
LOCATION:Olympia
URL:https://www.rave.ca/event/14120/
DESCRIPTION:Ecclectic... and funky !
CLASS:PUBLIC
CATEGORIES:
STATUS:CONFIRMED
PARTSTAT:ACCEPTED
END:VEVENT
END:VCALENDAR
