BEGIN:VCALENDAR
PRODID:RAVE.CA V17.0
X-WR-CALNAME:Hatebreed
X-ORIGINAL-URL:https://www.rave.ca/event/14054/
VERSION:2.0
CALSCALE:GREGORIAN
METHOD:PUBLISH
BEGIN:VEVENT
DTSTAMP:20061006T210556Z
LAST-MODIFIED:20061006T210556Z
CREATED:20060914T174647Z
SEQUENCE:14054
ORGANIZER:Unknown
DTSTART:20061028T200000Z
DTEND:20061028T200000Z
UID:event_14054@rave.ca
SUMMARY:Hatebreed
LOCATION:Spectrum
URL:https://www.rave.ca/event/14054/
DESCRIPTION:
CLASS:PUBLIC
CATEGORIES:
STATUS:CONFIRMED
PARTSTAT:ACCEPTED
END:VEVENT
END:VCALENDAR
