BEGIN:VCALENDAR
PRODID:RAVE.CA V17.0
X-WR-CALNAME:Euphoria
X-ORIGINAL-URL:https://www.rave.ca/event/14/
VERSION:2.0
CALSCALE:GREGORIAN
METHOD:PUBLISH
BEGIN:VEVENT
DTSTAMP:20040325T010000Z
LAST-MODIFIED:20040325T010000Z
CREATED:19991112T000000Z
SEQUENCE:14
ORGANIZER:Synergy Canada
DTSTART:19991112T000000Z
DTEND:19991112T000000Z
UID:event_14@rave.ca
SUMMARY:Euphoria
LOCATION:Unknown
URL:https://www.rave.ca/event/14/
DESCRIPTION:
CLASS:PUBLIC
CATEGORIES:
STATUS:CONFIRMED
PARTSTAT:ACCEPTED
END:VEVENT
END:VCALENDAR
