BEGIN:VCALENDAR
PRODID:RAVE.CA V17.0
X-WR-CALNAME:King Louis, Kal
X-ORIGINAL-URL:https://www.rave.ca/event/12744/
VERSION:2.0
CALSCALE:GREGORIAN
METHOD:PUBLISH
BEGIN:VEVENT
DTSTAMP:20070530T003838Z
LAST-MODIFIED:20070530T003838Z
CREATED:20050924T013000Z
SEQUENCE:12744
ORGANIZER:Unknown
DTSTART:20050924T013000Z
DTEND:20050924T013000Z
UID:event_12744@rave.ca
SUMMARY:King Louis\, Kal
LOCATION:Aria\, Afterhours
URL:https://www.rave.ca/event/12744/
DESCRIPTION:
CLASS:PUBLIC
CATEGORIES:
STATUS:CONFIRMED
PARTSTAT:ACCEPTED
END:VEVENT
END:VCALENDAR
