BEGIN:VCALENDAR
PRODID:RAVE.CA V17.0
X-WR-CALNAME:Aquasky
X-ORIGINAL-URL:https://www.rave.ca/event/1250/
VERSION:2.0
CALSCALE:GREGORIAN
METHOD:PUBLISH
BEGIN:VEVENT
DTSTAMP:20040405T000000Z
LAST-MODIFIED:20040405T000000Z
CREATED:20021211T000000Z
SEQUENCE:1250
ORGANIZER:Broken Crew
DTSTART:20021211T000000Z
DTEND:20021211T000000Z
UID:event_1250@rave.ca
SUMMARY:Aquasky
LOCATION:Blue Dog
URL:https://www.rave.ca/event/1250/
DESCRIPTION:Aquasky: breakbeat superdj from the UK!
CLASS:PUBLIC
CATEGORIES:
STATUS:CONFIRMED
PARTSTAT:ACCEPTED
END:VEVENT
END:VCALENDAR
