BEGIN:VCALENDAR
PRODID:RAVE.CA V17.0
X-WR-CALNAME:La Mafia Électronique
X-ORIGINAL-URL:https://www.rave.ca/event/1234/
VERSION:2.0
CALSCALE:GREGORIAN
METHOD:PUBLISH
BEGIN:VEVENT
DTSTAMP:20040409T000000Z
LAST-MODIFIED:20040409T000000Z
CREATED:20021121T000000Z
SEQUENCE:1234
ORGANIZER:La Mafia Électronique
DTSTART:20021121T000000Z
DTEND:20021121T000000Z
UID:event_1234@rave.ca
SUMMARY:La Mafia Électronique
LOCATION:Blue Dog
URL:https://www.rave.ca/event/1234/
DESCRIPTION:Electro & Techno 
CLASS:PUBLIC
CATEGORIES:
STATUS:CONFIRMED
PARTSTAT:ACCEPTED
END:VEVENT
END:VCALENDAR
