BEGIN:VCALENDAR
PRODID:RAVE.CA V17.0
X-WR-CALNAME:The Electrician
X-ORIGINAL-URL:https://www.rave.ca/event/1232/
VERSION:2.0
CALSCALE:GREGORIAN
METHOD:PUBLISH
BEGIN:VEVENT
DTSTAMP:20040405T000000Z
LAST-MODIFIED:20040405T000000Z
CREATED:20021120T000000Z
SEQUENCE:1232
ORGANIZER:Broken Crew
DTSTART:20021120T000000Z
DTEND:20021120T000000Z
UID:event_1232@rave.ca
SUMMARY:The Electrician
LOCATION:Blue Dog
URL:https://www.rave.ca/event/1232/
DESCRIPTION:Hard and Funky Breaks to electrify your ass.
CLASS:PUBLIC
CATEGORIES:
STATUS:CONFIRMED
PARTSTAT:ACCEPTED
END:VEVENT
END:VCALENDAR
