BEGIN:VCALENDAR
PRODID:RAVE.CA V17.0
X-WR-CALNAME:Dragon&#039;s Dream
X-ORIGINAL-URL:https://www.rave.ca/event/1138/
VERSION:2.0
CALSCALE:GREGORIAN
METHOD:PUBLISH
BEGIN:VEVENT
DTSTAMP:20040813T000000Z
LAST-MODIFIED:20040813T000000Z
CREATED:20020914T000000Z
SEQUENCE:1138
ORGANIZER:Freak Patrol
DTSTART:20020914T000000Z
DTEND:20020914T000000Z
UID:event_1138@rave.ca
SUMMARY:Dragon's Dream
LOCATION:24h en avance
URL:https://www.rave.ca/event/1138/
DESCRIPTION:Freak Line: 418.890-6028\n\nEmail\nyves_pouliot@hotmail.com\nThefreakpatrol@hotmail.com \nTimewave@sympatico.ca \n\nWebsite\nhttp://www.freakpatrol.com
CLASS:PUBLIC
CATEGORIES:
STATUS:CONFIRMED
PARTSTAT:ACCEPTED
END:VEVENT
END:VCALENDAR
