BEGIN:VCALENDAR
PRODID:RAVE.CA V17.0
X-WR-CALNAME:Friday The 13th
X-ORIGINAL-URL:https://www.rave.ca/event/1107/
VERSION:2.0
CALSCALE:GREGORIAN
METHOD:PUBLISH
BEGIN:VEVENT
DTSTAMP:20051107T000000Z
LAST-MODIFIED:20051107T000000Z
CREATED:20020913T000000Z
SEQUENCE:1107
ORGANIZER:Kanibalz
DTSTART:20020913T000000Z
DTEND:20020913T000000Z
UID:event_1107@rave.ca
SUMMARY:Friday The 13th
LOCATION:Terminal\, Afterhours
URL:https://www.rave.ca/event/1107/
DESCRIPTION:
CLASS:PUBLIC
CATEGORIES:
STATUS:CONFIRMED
PARTSTAT:ACCEPTED
END:VEVENT
END:VCALENDAR
