BEGIN:VCALENDAR
PRODID:RAVE.CA V17.0
X-WR-CALNAME:I Love Neon 4
X-ORIGINAL-URL:https://www.rave.ca/event/1086/
VERSION:2.0
CALSCALE:GREGORIAN
METHOD:PUBLISH
BEGIN:VEVENT
DTSTAMP:20040324T010000Z
LAST-MODIFIED:20040324T010000Z
CREATED:20020831T000000Z
SEQUENCE:1086
ORGANIZER:I Love Neon
DTSTART:20020831T000000Z
DTEND:20020831T000000Z
UID:event_1086@rave.ca
SUMMARY:I Love Neon 4
LOCATION:Societe des arts Technologiques
URL:https://www.rave.ca/event/1086/
DESCRIPTION:
CLASS:PUBLIC
CATEGORIES:
STATUS:CONFIRMED
PARTSTAT:ACCEPTED
END:VEVENT
END:VCALENDAR
