BEGIN:VCALENDAR
PRODID:RAVE.CA V17.0
X-WR-CALNAME:Small Party
X-ORIGINAL-URL:https://www.rave.ca/event/1085/
VERSION:2.0
CALSCALE:GREGORIAN
METHOD:PUBLISH
BEGIN:VEVENT
DTSTAMP:20040224T000000Z
LAST-MODIFIED:20040224T000000Z
CREATED:20020809T000000Z
SEQUENCE:1085
ORGANIZER:Agumon Productions
DTSTART:20020809T000000Z
DTEND:20020809T000000Z
UID:event_1085@rave.ca
SUMMARY:Small Party
LOCATION:Rainbow - 5345 de Maisonneuve
URL:https://www.rave.ca/event/1085/
DESCRIPTION:
CLASS:PUBLIC
CATEGORIES:
STATUS:CONFIRMED
PARTSTAT:ACCEPTED
END:VEVENT
END:VCALENDAR
