BEGIN:VCALENDAR
PRODID:RAVE.CA V17.0
X-WR-CALNAME:Big Bamboo Land
X-ORIGINAL-URL:https://www.rave.ca/event/10356/
VERSION:2.0
CALSCALE:GREGORIAN
METHOD:PUBLISH
BEGIN:VEVENT
DTSTAMP:20061210T235945Z
LAST-MODIFIED:20061210T235945Z
CREATED:20060831T140050Z
SEQUENCE:10356
ORGANIZER:Lezarium Production
DTSTART:20061209T220000Z
DTEND:20061210T100000Z
UID:event_10356@rave.ca
SUMMARY:Big Bamboo Land
LOCATION:Centre Fractal
URL:https://www.rave.ca/event/10356/
DESCRIPTION:Welcome to the Big Bamboo Land...\nWatch out for Ninja Koala!\n\nWhat?? Mini in a rave? It's been a long time!\n\nSome of the best Montreal Dj's just for you!\n\n\nAlcool until 3am... All night fun!
CLASS:PUBLIC
CATEGORIES:
STATUS:CONFIRMED
PARTSTAT:ACCEPTED
END:VEVENT
END:VCALENDAR
