BEGIN:VCALENDAR
PRODID:RAVE.CA V17.0
X-WR-CALNAME:Secret Circle
X-ORIGINAL-URL:https://www.rave.ca/event/10353/
VERSION:2.0
CALSCALE:GREGORIAN
METHOD:PUBLISH
BEGIN:VEVENT
DTSTAMP:20060927T110449Z
LAST-MODIFIED:20060927T110449Z
CREATED:20060831T005133Z
SEQUENCE:10353
ORGANIZER:Unknown
DTSTART:20061013T210000Z
DTEND:20061014T030000Z
UID:event_10353@rave.ca
SUMMARY:Secret Circle
LOCATION:Unknown
URL:https://www.rave.ca/event/10353/
DESCRIPTION:DJ COFFEMAN\nDJ CLOWN JESTRER RECORDS mtl\ndj emm synegy\ndj ashes \ndj rob black underdog ent\ndj data decay f.a.k /c.h.u.o89.1\n\nlazer show/uv deco\n4000w sound\n18+ whit id\n9pm-3am beer\n10$ advane/15$ door\nott\nnorml 41 wylliam st  613-562-2043\nhull/gat\nmarrijane 91 eddy 819-779-4367\ngat\nmusica monet 260 maloney 819-663-9999
CLASS:PUBLIC
CATEGORIES:
STATUS:CONFIRMED
PARTSTAT:ACCEPTED
END:VEVENT
END:VCALENDAR
