BEGIN:VCALENDAR
PRODID:RAVE.CA V17.0
X-WR-CALNAME:Aria 51
X-ORIGINAL-URL:https://www.rave.ca/event/10270/
VERSION:2.0
CALSCALE:GREGORIAN
METHOD:PUBLISH
BEGIN:VEVENT
DTSTAMP:20060818T181445Z
LAST-MODIFIED:20060818T181445Z
CREATED:20060818T180010Z
SEQUENCE:10270
ORGANIZER:Unknown
DTSTART:20060904T020000Z
DTEND:20060904T110000Z
UID:event_10270@rave.ca
SUMMARY:Aria 51
LOCATION:Aria\, Afterhours
URL:https://www.rave.ca/event/10270/
DESCRIPTION:The Most Unstoppable DJ Line Up For an Afterhour's\nPre Party starts at Club 1234 Tickets for both events start @ 20$ for fist 1000 tickes
CLASS:PUBLIC
CATEGORIES:
STATUS:CONFIRMED
PARTSTAT:ACCEPTED
END:VEVENT
END:VCALENDAR
