BEGIN:VCALENDAR
PRODID:RAVE.CA V17.0
X-WR-CALNAME:Casa Electric
X-ORIGINAL-URL:https://www.rave.ca/event/10224/
VERSION:2.0
CALSCALE:GREGORIAN
METHOD:PUBLISH
BEGIN:VEVENT
DTSTAMP:20060815T102056Z
LAST-MODIFIED:20060815T102056Z
CREATED:20060815T101659Z
SEQUENCE:10224
ORGANIZER:Unknown
DTSTART:20060914T220000Z
DTEND:20060914T220000Z
UID:event_10224@rave.ca
SUMMARY:Casa Electric
LOCATION:Casa Del Popolo
URL:https://www.rave.ca/event/10224/
DESCRIPTION:Hipsters beware !  This party will twist the knife in any orifice you may fancy.
CLASS:PUBLIC
CATEGORIES:
STATUS:CONFIRMED
PARTSTAT:ACCEPTED
END:VEVENT
END:VCALENDAR
