BEGIN:VCALENDAR
PRODID:RAVE.CA V17.0
X-WR-CALNAME:Marco G, Miguel Graça
X-ORIGINAL-URL:https://www.rave.ca/event/10040/
VERSION:2.0
CALSCALE:GREGORIAN
METHOD:PUBLISH
BEGIN:VEVENT
DTSTAMP:20060814T142145Z
LAST-MODIFIED:20060814T142145Z
CREATED:20060802T045029Z
SEQUENCE:10040
ORGANIZER:Unknown
DTSTART:20060826T000000Z
DTEND:20060826T000000Z
UID:event_10040@rave.ca
SUMMARY:Marco G\, Miguel Graça
LOCATION:Aria\, Afterhours
URL:https://www.rave.ca/event/10040/
DESCRIPTION:
CLASS:PUBLIC
CATEGORIES:
STATUS:CONFIRMED
PARTSTAT:ACCEPTED
END:VEVENT
END:VCALENDAR
