BEGIN:VCALENDAR
PRODID:RAVE.CA V17.0
X-WR-CALNAME:Maus, Kenny Hawkes
X-ORIGINAL-URL:https://www.rave.ca/event/10039/
VERSION:2.0
CALSCALE:GREGORIAN
METHOD:PUBLISH
BEGIN:VEVENT
DTSTAMP:20060819T184929Z
LAST-MODIFIED:20060819T184929Z
CREATED:20060802T044916Z
SEQUENCE:10039
ORGANIZER:Unknown
DTSTART:20060819T000000Z
DTEND:20060819T000000Z
UID:event_10039@rave.ca
SUMMARY:Maus\, Kenny Hawkes
LOCATION:Aria\, Afterhours
URL:https://www.rave.ca/event/10039/
DESCRIPTION:
CLASS:PUBLIC
CATEGORIES:
STATUS:CONFIRMED
PARTSTAT:ACCEPTED
END:VEVENT
END:VCALENDAR
